BEGIN:VCALENDAR
VERSION:2.0
PRODID:-//Tennessee Alliance for Equity in Education - ECPv6.15.17//NONSGML v1.0//EN
CALSCALE:GREGORIAN
METHOD:PUBLISH
X-WR-CALNAME:Tennessee Alliance for Equity in Education
X-ORIGINAL-URL:https://thealliancetn.org
X-WR-CALDESC:Events for Tennessee Alliance for Equity in Education
REFRESH-INTERVAL;VALUE=DURATION:PT1H
X-Robots-Tag:noindex
X-PUBLISHED-TTL:PT1H
BEGIN:VTIMEZONE
TZID:America/Chicago
BEGIN:DAYLIGHT
TZOFFSETFROM:-0600
TZOFFSETTO:-0500
TZNAME:CDT
DTSTART:20210314T080000
END:DAYLIGHT
BEGIN:STANDARD
TZOFFSETFROM:-0500
TZOFFSETTO:-0600
TZNAME:CST
DTSTART:20211107T070000
END:STANDARD
BEGIN:DAYLIGHT
TZOFFSETFROM:-0600
TZOFFSETTO:-0500
TZNAME:CDT
DTSTART:20220313T080000
END:DAYLIGHT
BEGIN:STANDARD
TZOFFSETFROM:-0500
TZOFFSETTO:-0600
TZNAME:CST
DTSTART:20221106T070000
END:STANDARD
BEGIN:DAYLIGHT
TZOFFSETFROM:-0600
TZOFFSETTO:-0500
TZNAME:CDT
DTSTART:20230312T080000
END:DAYLIGHT
BEGIN:STANDARD
TZOFFSETFROM:-0500
TZOFFSETTO:-0600
TZNAME:CST
DTSTART:20231105T070000
END:STANDARD
END:VTIMEZONE
BEGIN:VEVENT
DTSTART;TZID=America/Chicago:20221206T180000
DTEND;TZID=America/Chicago:20221206T190000
DTSTAMP:20260420T022433
CREATED:20221128T205706Z
LAST-MODIFIED:20221207T005800Z
UID:10000331-1670349600-1670353200@thealliancetn.org
SUMMARY:Building the Blueprint: A Community-Driven Superintendent Search\, Part 3: What the Memphis community wants in a superintendent search
DESCRIPTION:Learn more about current district superintendent search policies and how we can update past searches to ensure Memphis chooses the right leader for our schools. \nRegister
URL:https://thealliancetn.org/event/memphis-education-fund-building-the-blueprint-a-community-driven-superintendent-search-part-3-what-the-memphis-community-wants-in-a-superintendent-search/
CATEGORIES:Alliance Members
ATTACH;FMTTYPE=image/jpeg:https://thealliancetn.org/wp-content/uploads/2022/11/memphis_education_fund_event_logo_gray_bg_new.jpg
END:VEVENT
BEGIN:VEVENT
DTSTART;TZID=America/Chicago:20221107T180000
DTEND;TZID=America/Chicago:20221107T190000
DTSTAMP:20260420T022433
CREATED:20221024T145733Z
LAST-MODIFIED:20221108T005739Z
UID:10000276-1667844000-1667847600@thealliancetn.org
SUMMARY:Memphis Education Fund\, Building the Blueprint: A Community-Driven Superintendent Search
DESCRIPTION:Join Memphis Education Fund for the first part of our community engagement series to lay the groundwork for Memphis’ next superintendent. \nRegister
URL:https://thealliancetn.org/event/memphis-education-fund-building-the-blueprint-a-community-driven-superintendent-search/
CATEGORIES:Alliance Members
ATTACH;FMTTYPE=image/jpeg:https://thealliancetn.org/wp-content/uploads/2022/10/memphis_education_fund_event_logo.jpg
END:VEVENT
END:VCALENDAR