BEGIN:VCALENDAR
VERSION:2.0
PRODID:-//Tennessee Alliance for Equity in Education - ECPv6.15.17//NONSGML v1.0//EN
CALSCALE:GREGORIAN
METHOD:PUBLISH
X-ORIGINAL-URL:https://thealliancetn.org
X-WR-CALDESC:Events for Tennessee Alliance for Equity in Education
REFRESH-INTERVAL;VALUE=DURATION:PT1H
X-Robots-Tag:noindex
X-PUBLISHED-TTL:PT1H
BEGIN:VTIMEZONE
TZID:America/Chicago
BEGIN:DAYLIGHT
TZOFFSETFROM:-0600
TZOFFSETTO:-0500
TZNAME:CDT
DTSTART:20210314T080000
END:DAYLIGHT
BEGIN:STANDARD
TZOFFSETFROM:-0500
TZOFFSETTO:-0600
TZNAME:CST
DTSTART:20211107T070000
END:STANDARD
BEGIN:DAYLIGHT
TZOFFSETFROM:-0600
TZOFFSETTO:-0500
TZNAME:CDT
DTSTART:20220313T080000
END:DAYLIGHT
BEGIN:STANDARD
TZOFFSETFROM:-0500
TZOFFSETTO:-0600
TZNAME:CST
DTSTART:20221106T070000
END:STANDARD
BEGIN:DAYLIGHT
TZOFFSETFROM:-0600
TZOFFSETTO:-0500
TZNAME:CDT
DTSTART:20230312T080000
END:DAYLIGHT
BEGIN:STANDARD
TZOFFSETFROM:-0500
TZOFFSETTO:-0600
TZNAME:CST
DTSTART:20231105T070000
END:STANDARD
END:VTIMEZONE
BEGIN:VEVENT
DTSTART;TZID=America/Chicago:20221022T080000
DTEND;TZID=America/Chicago:20221022T140000
DTSTAMP:20260420T035315
CREATED:20221019T192509Z
LAST-MODIFIED:20221022T185950Z
UID:10000278-1666425600-1666447200@thealliancetn.org
SUMMARY:TECA - Male Educators of Color Summit
DESCRIPTION:The Male Educators of Color Summit will be hosted by the Tennessee Educators of Color Alliance and the Man Up Teacher Residency on Saturday October 22\, 2022 from 8am-2pm. The event will be held at the Crosstown Concourse in Memphis\, Tennessee. The event is FREE and will feature a keynote address from Sharif El-Mekki\, founder and CEO of the Center for Black Educator Development and breakout sessions tailored to the support\, development\, and empowerment of male educator of color. A lite breakfast and lunch will be served. \nRegister
URL:https://thealliancetn.org/event/teca-male-educators-of-color-summit/
LOCATION:Crosstown Concourse (1350 Concourse Ave\, Memphis\, TN 38104\, United States)
CATEGORIES:Alliance Members
ATTACH;FMTTYPE=image/jpeg:https://thealliancetn.org/wp-content/uploads/2022/10/teca_event.jpg
END:VEVENT
BEGIN:VEVENT
DTSTART;TZID=America/Chicago:20221026T140000
DTEND;TZID=America/Chicago:20221026T150000
DTSTAMP:20260420T035315
CREATED:20220321T175944Z
LAST-MODIFIED:20221026T195752Z
UID:10000215-1666792800-1666796400@thealliancetn.org
SUMMARY:Higher Education Success – Focus on strategies to increase persistence\, retention\, completion.
DESCRIPTION:Getting in is one thing. Completing is quite another. Participants will hear how universities develop supports designed to help students succeed while in college. What is working and what have we learned? \nRegister
URL:https://thealliancetn.org/event/thrive-higher-education-success-focus-on-strategies-to-increase-persistence-retention-completion/
CATEGORIES:Alliance Members
ATTACH;FMTTYPE=image/jpeg:https://thealliancetn.org/wp-content/uploads/2022/02/taee_event_logo_thrive.jpg
END:VEVENT
END:VCALENDAR