BEGIN:VCALENDAR
VERSION:2.0
PRODID:-//Tennessee Alliance for Equity in Education - ECPv6.15.17//NONSGML v1.0//EN
CALSCALE:GREGORIAN
METHOD:PUBLISH
X-WR-CALNAME:Tennessee Alliance for Equity in Education
X-ORIGINAL-URL:https://thealliancetn.org
X-WR-CALDESC:Events for Tennessee Alliance for Equity in Education
REFRESH-INTERVAL;VALUE=DURATION:PT1H
X-Robots-Tag:noindex
X-PUBLISHED-TTL:PT1H
BEGIN:VTIMEZONE
TZID:America/Chicago
BEGIN:DAYLIGHT
TZOFFSETFROM:-0600
TZOFFSETTO:-0500
TZNAME:CDT
DTSTART:20200308T080000
END:DAYLIGHT
BEGIN:STANDARD
TZOFFSETFROM:-0500
TZOFFSETTO:-0600
TZNAME:CST
DTSTART:20201101T070000
END:STANDARD
BEGIN:DAYLIGHT
TZOFFSETFROM:-0600
TZOFFSETTO:-0500
TZNAME:CDT
DTSTART:20210314T080000
END:DAYLIGHT
BEGIN:STANDARD
TZOFFSETFROM:-0500
TZOFFSETTO:-0600
TZNAME:CST
DTSTART:20211107T070000
END:STANDARD
BEGIN:DAYLIGHT
TZOFFSETFROM:-0600
TZOFFSETTO:-0500
TZNAME:CDT
DTSTART:20220313T080000
END:DAYLIGHT
BEGIN:STANDARD
TZOFFSETFROM:-0500
TZOFFSETTO:-0600
TZNAME:CST
DTSTART:20221106T070000
END:STANDARD
END:VTIMEZONE
BEGIN:VEVENT
DTSTART;TZID=America/Chicago:20210426T150000
DTEND;TZID=America/Chicago:20210426T163000
DTSTAMP:20260422T082733
CREATED:20210217T230541Z
LAST-MODIFIED:20210426T205453Z
UID:10000234-1619449200-1619454600@thealliancetn.org
SUMMARY:Cracking the Code: Tennessee's BEP Funding Formula
DESCRIPTION:Dollars and Sense is a 7-part learning series designed to help Tennesseans understand how schools are funded in Tennessee\, and what we can do to improve the adequacy and equity in our funding formula so that our schools and students have access to the resources that they need to succeed. We will feature expert speakers from Tennessee and across the country\, and assign optional readings for each session. \nSession 3 will provide attendees with a close examination of the Basic Education Program (BEP)\, including its history\, structure\, how it works in practice and its impact on key drivers like salaries and staffing\, instructional programs and learning supports for students. We’ll discuss how the BEP funds and impacts rural and urban districts\, and the challenges local counties face in funding the remainder of district needs. \nRegister
URL:https://thealliancetn.org/event/cracking-the-code-tennessees-bep-funding-formula/
ATTACH;FMTTYPE=image/jpeg:https://thealliancetn.org/wp-content/uploads/2021/02/021121-ETTN-Zoom-DollarsAndSense.jpg
END:VEVENT
END:VCALENDAR