BEGIN:VCALENDAR
VERSION:2.0
PRODID:-//Tennessee Alliance for Equity in Education - ECPv6.15.17//NONSGML v1.0//EN
CALSCALE:GREGORIAN
METHOD:PUBLISH
X-WR-CALNAME:Tennessee Alliance for Equity in Education
X-ORIGINAL-URL:https://thealliancetn.org
X-WR-CALDESC:Events for Tennessee Alliance for Equity in Education
REFRESH-INTERVAL;VALUE=DURATION:PT1H
X-Robots-Tag:noindex
X-PUBLISHED-TTL:PT1H
BEGIN:VTIMEZONE
TZID:America/Chicago
BEGIN:DAYLIGHT
TZOFFSETFROM:-0600
TZOFFSETTO:-0500
TZNAME:CDT
DTSTART:20230312T080000
END:DAYLIGHT
BEGIN:STANDARD
TZOFFSETFROM:-0500
TZOFFSETTO:-0600
TZNAME:CST
DTSTART:20231105T070000
END:STANDARD
BEGIN:DAYLIGHT
TZOFFSETFROM:-0600
TZOFFSETTO:-0500
TZNAME:CDT
DTSTART:20240310T080000
END:DAYLIGHT
BEGIN:STANDARD
TZOFFSETFROM:-0500
TZOFFSETTO:-0600
TZNAME:CST
DTSTART:20241103T070000
END:STANDARD
BEGIN:DAYLIGHT
TZOFFSETFROM:-0600
TZOFFSETTO:-0500
TZNAME:CDT
DTSTART:20250309T080000
END:DAYLIGHT
BEGIN:STANDARD
TZOFFSETFROM:-0500
TZOFFSETTO:-0600
TZNAME:CST
DTSTART:20251102T070000
END:STANDARD
BEGIN:DAYLIGHT
TZOFFSETFROM:-0600
TZOFFSETTO:-0500
TZNAME:CDT
DTSTART:20260308T080000
END:DAYLIGHT
BEGIN:STANDARD
TZOFFSETFROM:-0500
TZOFFSETTO:-0600
TZNAME:CST
DTSTART:20261101T070000
END:STANDARD
BEGIN:DAYLIGHT
TZOFFSETFROM:-0600
TZOFFSETTO:-0500
TZNAME:CDT
DTSTART:20270314T080000
END:DAYLIGHT
BEGIN:STANDARD
TZOFFSETFROM:-0500
TZOFFSETTO:-0600
TZNAME:CST
DTSTART:20271107T070000
END:STANDARD
END:VTIMEZONE
BEGIN:VTIMEZONE
TZID:America/New_York
BEGIN:DAYLIGHT
TZOFFSETFROM:-0500
TZOFFSETTO:-0400
TZNAME:EDT
DTSTART:20230312T070000
END:DAYLIGHT
BEGIN:STANDARD
TZOFFSETFROM:-0400
TZOFFSETTO:-0500
TZNAME:EST
DTSTART:20231105T060000
END:STANDARD
BEGIN:DAYLIGHT
TZOFFSETFROM:-0500
TZOFFSETTO:-0400
TZNAME:EDT
DTSTART:20240310T070000
END:DAYLIGHT
BEGIN:STANDARD
TZOFFSETFROM:-0400
TZOFFSETTO:-0500
TZNAME:EST
DTSTART:20241103T060000
END:STANDARD
BEGIN:DAYLIGHT
TZOFFSETFROM:-0500
TZOFFSETTO:-0400
TZNAME:EDT
DTSTART:20250309T070000
END:DAYLIGHT
BEGIN:STANDARD
TZOFFSETFROM:-0400
TZOFFSETTO:-0500
TZNAME:EST
DTSTART:20251102T060000
END:STANDARD
BEGIN:DAYLIGHT
TZOFFSETFROM:-0500
TZOFFSETTO:-0400
TZNAME:EDT
DTSTART:20260308T070000
END:DAYLIGHT
BEGIN:STANDARD
TZOFFSETFROM:-0400
TZOFFSETTO:-0500
TZNAME:EST
DTSTART:20261101T060000
END:STANDARD
BEGIN:DAYLIGHT
TZOFFSETFROM:-0500
TZOFFSETTO:-0400
TZNAME:EDT
DTSTART:20270314T070000
END:DAYLIGHT
BEGIN:STANDARD
TZOFFSETFROM:-0400
TZOFFSETTO:-0500
TZNAME:EST
DTSTART:20271107T060000
END:STANDARD
END:VTIMEZONE
BEGIN:VTIMEZONE
TZID:America/Mexico_City
BEGIN:STANDARD
TZOFFSETFROM:-0600
TZOFFSETTO:-0600
TZNAME:CST
DTSTART:20240101T000000
END:STANDARD
END:VTIMEZONE
BEGIN:VEVENT
DTSTART;TZID=America/Chicago:20240926T190000
DTEND;TZID=America/Chicago:20240926T200000
DTSTAMP:20260421T041320
CREATED:20240729T152856Z
LAST-MODIFIED:20240927T005555Z
UID:10000487-1727377200-1727380800@thealliancetn.org
SUMMARY:Book Banning Webinar
DESCRIPTION:Book banning is on the rise! Come hear from organizations on the front line as they help us understand what libraries and school boards are facing: PEN America\, ALA Unite Against Book Bans\, and a Blount County\, Tennessee School Board member. \nRegister
URL:https://thealliancetn.org/event/book-banning-webinar/
LOCATION:Zoom Virtual Meeting
ATTACH;FMTTYPE=image/jpeg:https://thealliancetn.org/wp-content/uploads/2021/11/league_of_women_voters_of_tennessee_logo.jpg
END:VEVENT
BEGIN:VEVENT
DTSTART;TZID=America/Chicago:20241016T190000
DTEND;TZID=America/Chicago:20241017T203000
DTSTAMP:20260421T041320
CREATED:20240930T160411Z
LAST-MODIFIED:20241002T204232Z
UID:10000494-1729105200-1729197000@thealliancetn.org
SUMMARY:Virtual Screening: One Vote
DESCRIPTION:Celebrate the act of voting! LWVTN will kick off Early Voting with a screening of One Vote. This documentary highlights the joyous\, funny\, and challenging Election Day experiences of five very diverse voters in 2016. It serves to remind us that voting is personal\, voting is important. Producer Christine Doeg will introduce the film and talk about its continued relevance. \nRegister
URL:https://thealliancetn.org/event/virtual-screening-one-vote/
LOCATION:Zoom Virtual Meeting
ATTACH;FMTTYPE=image/jpeg:https://thealliancetn.org/wp-content/uploads/2023/01/league_of_women_voters_event.jpg
END:VEVENT
BEGIN:VEVENT
DTSTART;TZID=America/New_York:20241022T083000
DTEND;TZID=America/New_York:20241022T160000
DTSTAMP:20260421T041320
CREATED:20240930T154346Z
LAST-MODIFIED:20240930T154346Z
UID:10000493-1729585800-1729612800@thealliancetn.org
SUMMARY:Chattanooga Regional Anti-Hunger Conference
DESCRIPTION:Join TJC\, Chattanooga Area Food Bank\, and YMCA of Metropolitan Chattanooga for the Chattanooga Regional Anti-Hunger Conference\, happening in Chattanooga\, TN on October 22\, 2024. This will be a one-day event to bring together stakeholders and partners doing the work of Anti-Hunger in Southeast TN to discuss federal programs like WIC\, SNAP\, and Child Nutrition. We will host panels\, presentations\, and other activities to bolster collaboration and spread information about this work. \nRegister
URL:https://thealliancetn.org/event/chattanooga-regional-anti-hunger-conference/
ATTACH;FMTTYPE=image/jpeg:https://thealliancetn.org/wp-content/uploads/2021/01/TJC_colorlogo-01-1-K-Young.jpg
END:VEVENT
BEGIN:VEVENT
DTSTART;TZID=America/Chicago:20241204T083000
DTEND;TZID=America/Chicago:20241204T130000
DTSTAMP:20260421T041320
CREATED:20241111T170946Z
LAST-MODIFIED:20241204T185133Z
UID:10000495-1733301000-1733317200@thealliancetn.org
SUMMARY:Rising Together: Supporting Undocumented Students in Tennessee
DESCRIPTION:Each year\, roughly 2\,000 undocumented students graduate from Tennessee high schools\, often without access to resources and institutional support to pursue their postsecondary and career aspirations. Join EdTrust—Tennessee as we share findings from our latest research and resources\, and bring together a panel of students and postsecondary institution leaders to learn about critical policy shifts\, campus strategies\, and the role of community partnerships in closing opportunity gaps for undocumented Tennesseans. \nThis event is co-hosted by our partners at Achievers\, Centro Hispano de East Tennessee\, Equal Chance for Education\, FUTURO\, Hola Lakeway\, La Paz Chattanooga\, Latino Memphis\, Oasis Center\, Persist Nashville\, Su Casa Family Ministries\, and Tennessee Immigrant & Refugee Rights Coalition. \nRegister
URL:https://thealliancetn.org/event/rising-together-supporting-undocumented-students-in-tennessee/
LOCATION:Tennessee Immigrant and Refugee Rights Coalition (3310 Ezell Rd\, Nashville\, TN 37211)
ATTACH;FMTTYPE=image/jpeg:https://thealliancetn.org/wp-content/uploads/2024/11/risingtogetheremailheaderfinal-1.jpg
END:VEVENT
BEGIN:VEVENT
DTSTART;TZID=America/Chicago:20250708T123000
DTEND;TZID=America/Chicago:20250708T130000
DTSTAMP:20260421T041320
CREATED:20250708T142554Z
LAST-MODIFIED:20250708T174615Z
UID:10000503-1751977800-1751979600@thealliancetn.org
SUMMARY:TDOE Statewide Call - Education Stakeholders
DESCRIPTION:Greetings\,\nOn Tuesday\, July 8\, the Tennessee Department of Education will hold a statewide call for education stakeholders to preview the 2024-25 TCAP state-level results. Department officials will highlight key findings and provide an overview of the results. We welcome your attendance if your schedule permits.\nMicrosoft Teams Need help?\nJoin the meeting now\nMeeting ID: 277 639 593 884 8\nPasscode: GR9pU6vv\nDial in by phone\n+1 615-270-9704\,\,867488543# United States\, All locations\nFind a local number\nPhone conference ID: 867 488 543#\nThe State of Tennessee does not currently permit the use of Generative AI tools in meetings hosted on state resources. Meetings with contractors\, vendors\, and subrecipients are not public meetings and may involve discussion of protected state data. If you choose to use a tool such as this\, the State will block that tool from the meeting.
URL:https://thealliancetn.org/event/tdoe-statewide-call-education-stakeholders/
END:VEVENT
BEGIN:VEVENT
DTSTART;TZID=America/Mexico_City:20250820T113000
DTEND;TZID=America/Mexico_City:20250820T123000
DTSTAMP:20260421T041320
CREATED:20250820T211031Z
LAST-MODIFIED:20250821T184730Z
UID:10000506-1755689400-1755693000@thealliancetn.org
SUMMARY:This Wednesday in Brief: Medicaid & SNAP in Focus
DESCRIPTION:Join TJC the 3rd Wednesday of the month at 11:30 AM CT to learn about the planned cuts to Medicaid (“TennCare”) and SNAP (“food stamps”). This is a series of check-ins to share vital information\, where we’ll break down the latest congressional developments as they occur and explain how you can make a difference! \nRegister Now
URL:https://thealliancetn.org/event/this-wednesday-in-brief-medicaid-snap-in-focus/
CATEGORIES:Alliance Members
ATTACH;FMTTYPE=image/jpeg:https://thealliancetn.org/wp-content/uploads/2025/08/TN-Justice-Center_Event.jpg
END:VEVENT
BEGIN:VEVENT
DTSTART;TZID=America/Mexico_City:20250820T163000
DTEND;TZID=America/Mexico_City:20250820T173000
DTSTAMP:20260421T041320
CREATED:20250820T211225Z
LAST-MODIFIED:20250821T184745Z
UID:10000507-1755707400-1755711000@thealliancetn.org
SUMMARY:Differentiated Instruction for Effective Classroom Management
DESCRIPTION:Register Now
URL:https://thealliancetn.org/event/differentiated-instruction-for-effective-classroom-management/
CATEGORIES:Alliance Members
ATTACH;FMTTYPE=image/jpeg:https://thealliancetn.org/wp-content/uploads/2025/08/Tennessee-Educators-of-Color-Alliance_Event.jpg
END:VEVENT
BEGIN:VEVENT
DTSTART;TZID=America/Mexico_City:20250821T190000
DTEND;TZID=America/Mexico_City:20250821T200000
DTSTAMP:20260421T041320
CREATED:20250820T211401Z
LAST-MODIFIED:20250821T184650Z
UID:10000508-1755802800-1755806400@thealliancetn.org
SUMMARY:Media Literacy: How Students Can Develop Essential Skills Webinar
DESCRIPTION:Join the Zoom Event
URL:https://thealliancetn.org/event/media-literacy-how-students-can-develop-essential-skills-webinar/
CATEGORIES:Alliance Members
ATTACH;FMTTYPE=image/jpeg:https://thealliancetn.org/wp-content/uploads/2025/08/League-of-Women-Voters_Event.jpg
END:VEVENT
BEGIN:VEVENT
DTSTART;TZID=America/Mexico_City:20250823T090000
DTEND;TZID=America/Mexico_City:20250823T130000
DTSTAMP:20260421T041320
CREATED:20250820T211651Z
LAST-MODIFIED:20250821T184704Z
UID:10000510-1755939600-1755954000@thealliancetn.org
SUMMARY:Youth Empowerment Summit 2025
DESCRIPTION:See the details
URL:https://thealliancetn.org/event/youth-empowerment-summit-2025/
CATEGORIES:Alliance Members
ATTACH;FMTTYPE=image/jpeg:https://thealliancetn.org/wp-content/uploads/2025/08/My-Brothers-Keeper-Nashville-Partnership_Event.jpg
END:VEVENT
BEGIN:VEVENT
DTSTART;TZID=America/Mexico_City:20250823T103000
DTEND;TZID=America/Mexico_City:20250823T170000
DTSTAMP:20260421T041320
CREATED:20250820T211528Z
LAST-MODIFIED:20250820T211528Z
UID:10000509-1755945000-1755968400@thealliancetn.org
SUMMARY:International Food Festival
DESCRIPTION:Taste the world in one day! Join us at the International Food Festival on Saturday\, August 23rd from 10:30–5:00 PM at the Morristown Farmer’s Market & Downtown Green! \nEnjoy global eats\, music\, dancing\, crafts\, and more—fun for the whole family! \nThis is HOLA Lakeway’s biggest event of the year—don’t miss it! \nSee the details
URL:https://thealliancetn.org/event/international-food-festival/
CATEGORIES:Alliance Members
ATTACH;FMTTYPE=image/jpeg:https://thealliancetn.org/wp-content/uploads/2022/11/hola_lakeway_event_logo.jpg
END:VEVENT
BEGIN:VEVENT
DTSTART;TZID=America/Mexico_City:20250826T180000
DTEND;TZID=America/Mexico_City:20250826T190000
DTSTAMP:20260421T041320
CREATED:20250820T211823Z
LAST-MODIFIED:20250821T184715Z
UID:10000511-1756231200-1756234800@thealliancetn.org
SUMMARY:Adult Learning Program Tutor Launch Session
DESCRIPTION:As a Volunteer Tutor with Literacy Mid-South\, you will play a critical role in empowering adults to gain the basic literacy and language skills necessary to live their best lives. Click here to learn more and sign up for an info session! (If you find this is for you the training will be Sept. 13.)
URL:https://thealliancetn.org/event/adult-learning-program-tutor-launch-session/
CATEGORIES:Alliance Members
ATTACH;FMTTYPE=image/jpeg:https://thealliancetn.org/wp-content/uploads/2025/08/Literacy-Mid-South_Event.jpg
END:VEVENT
BEGIN:VEVENT
DTSTART;VALUE=DATE:20251215
DTEND;VALUE=DATE:20251224
DTSTAMP:20260421T041320
CREATED:20251106T194024Z
LAST-MODIFIED:20251223T234100Z
UID:10000513-1765756800-1766534399@thealliancetn.org
SUMMARY:Quiet Week
DESCRIPTION:
URL:https://thealliancetn.org/event/quiet-week/
END:VEVENT
BEGIN:VEVENT
DTSTART;VALUE=DATE:20260123
DTEND;VALUE=DATE:20260124
DTSTAMP:20260421T041320
CREATED:20251028T151117Z
LAST-MODIFIED:20260113T172455Z
UID:10000512-1769126400-1769212799@thealliancetn.org
SUMMARY:Canceled: Kylie OOO
DESCRIPTION:
URL:https://thealliancetn.org/event/kylie-ooo/
END:VEVENT
BEGIN:VEVENT
DTSTART;VALUE=DATE:20260208
DTEND;VALUE=DATE:20260209
DTSTAMP:20260421T041320
CREATED:20260205T054942Z
LAST-MODIFIED:20260205T055115Z
UID:10000514-1770508800-1770595199@thealliancetn.org
SUMMARY:Urban League of Greater Chattanooga Rooted in Purpose
DESCRIPTION:
URL:https://thealliancetn.org/event/urban-league-of-greater-chattanooga-rooted-in-purpose/
END:VEVENT
BEGIN:VEVENT
DTSTART;TZID=America/New_York:20260211T190000
DTEND;TZID=America/New_York:20260211T200000
DTSTAMP:20260421T041320
CREATED:20260205T055257Z
LAST-MODIFIED:20260205T055257Z
UID:10000515-1770836400-1770840000@thealliancetn.org
SUMMARY:League of Women Voters TN: Challenges facing the LGBTQ+ community in Tennessee and across the country
DESCRIPTION:
URL:https://thealliancetn.org/event/league-of-women-voters-tn-challenges-facing-the-lgbtq-community-in-tennessee-and-across-the-country/
END:VEVENT
BEGIN:VEVENT
DTSTART;TZID=America/Chicago:20260217T060000
DTEND;TZID=America/Chicago:20260217T193000
DTSTAMP:20260421T041320
CREATED:20260205T055627Z
LAST-MODIFIED:20260205T055627Z
UID:10000516-1771308000-1771356600@thealliancetn.org
SUMMARY:SOCM Public School Strong Tennessee Orientation
DESCRIPTION:
URL:https://thealliancetn.org/event/socm-public-school-strong-tennessee-orientation/
END:VEVENT
BEGIN:VEVENT
DTSTART;TZID=America/Chicago:20260217T080000
DTEND;TZID=America/Chicago:20260217T160000
DTSTAMP:20260421T041320
CREATED:20260205T055848Z
LAST-MODIFIED:20260205T055848Z
UID:10000518-1771315200-1771344000@thealliancetn.org
SUMMARY:Alliance Day of Education Advocacy: "Power of Us"
DESCRIPTION:
URL:https://thealliancetn.org/event/alliance-day-of-education-advocacy-power-of-us/
END:VEVENT
BEGIN:VEVENT
DTSTART;TZID=America/Chicago:20260217T170000
DTEND;TZID=America/Chicago:20260217T190000
DTSTAMP:20260421T041320
CREATED:20260205T055747Z
LAST-MODIFIED:20260205T055747Z
UID:10000517-1771347600-1771354800@thealliancetn.org
SUMMARY:EdTrust - Tennessee Ten for Tennessee Legislative Reception
DESCRIPTION:
URL:https://thealliancetn.org/event/edtrust-tennessee-ten-for-tennessee-legislative-reception/
END:VEVENT
BEGIN:VEVENT
DTSTART;TZID=America/Chicago:20260225T090000
DTEND;TZID=America/Chicago:20260225T170000
DTSTAMP:20260421T041320
CREATED:20260205T060015Z
LAST-MODIFIED:20260205T060015Z
UID:10000519-1772010000-1772038800@thealliancetn.org
SUMMARY:TN Disability Coalition Disability Day on the Hill
DESCRIPTION:
URL:https://thealliancetn.org/event/tn-disability-coalition-disability-day-on-the-hill/
END:VEVENT
BEGIN:VEVENT
DTSTART;TZID=America/Chicago:20260226T120000
DTEND;TZID=America/Chicago:20260226T170000
DTSTAMP:20260421T041320
CREATED:20260205T060136Z
LAST-MODIFIED:20260205T060136Z
UID:10000520-1772107200-1772125200@thealliancetn.org
SUMMARY:SCORE Institute: Making Instructional Coherence Work
DESCRIPTION:
URL:https://thealliancetn.org/event/score-institute-making-instructional-coherence-work/
END:VEVENT
BEGIN:VEVENT
DTSTART;TZID=America/Mexico_City:20260228T100000
DTEND;TZID=America/Mexico_City:20260228T140000
DTSTAMP:20260421T041320
CREATED:20260205T060214Z
LAST-MODIFIED:20260205T060214Z
UID:10000521-1772272800-1772287200@thealliancetn.org
SUMMARY:YWCA Nashville & Middle TN Youth Advocacy Summit
DESCRIPTION:
URL:https://thealliancetn.org/event/ywca-nashville-middle-tn-youth-advocacy-summit/
END:VEVENT
BEGIN:VEVENT
DTSTART;TZID=America/Chicago:20260228T100000
DTEND;TZID=America/Chicago:20260228T150000
DTSTAMP:20260421T041320
CREATED:20260205T060320Z
LAST-MODIFIED:20260205T060320Z
UID:10000522-1772272800-1772290800@thealliancetn.org
SUMMARY:BRIDGES 2026 Youth Voice Summit
DESCRIPTION:
URL:https://thealliancetn.org/event/bridges-2026-youth-voice-summit/
END:VEVENT
BEGIN:VEVENT
DTSTART;TZID=America/Mexico_City:20260303T100000
DTEND;TZID=America/Mexico_City:20260303T163000
DTSTAMP:20260421T041320
CREATED:20260205T060450Z
LAST-MODIFIED:20260205T060450Z
UID:10000523-1772532000-1772555400@thealliancetn.org
SUMMARY:TN Educators of Color Alliance Day on the Hill
DESCRIPTION:
URL:https://thealliancetn.org/event/tn-educators-of-color-alliance-day-on-the-hill/
END:VEVENT
BEGIN:VEVENT
DTSTART;TZID=America/Chicago:20260305T120000
DTEND;TZID=America/Chicago:20260305T123000
DTSTAMP:20260421T041320
CREATED:20260303T053616Z
LAST-MODIFIED:20260303T053653Z
UID:10000526-1772712000-1772713800@thealliancetn.org
SUMMARY:EdTrust - Tennessee Advocacy Alert: Legislative Briefing
DESCRIPTION:
URL:https://thealliancetn.org/event/edtrust-tennessee/
END:VEVENT
BEGIN:VEVENT
DTSTART;TZID=America/New_York:20260309T180000
DTEND;TZID=America/New_York:20260309T200000
DTSTAMP:20260421T041320
CREATED:20260303T053831Z
LAST-MODIFIED:20260303T053831Z
UID:10000527-1773079200-1773086400@thealliancetn.org
SUMMARY:CALEB: Art Night with a side of Education Reform
DESCRIPTION:
URL:https://thealliancetn.org/event/caleb-art-night-with-a-side-of-education-reform/
END:VEVENT
BEGIN:VEVENT
DTSTART;TZID=America/Chicago:20260314T100000
DTEND;TZID=America/Chicago:20260314T153000
DTSTAMP:20260421T041320
CREATED:20260205T060618Z
LAST-MODIFIED:20260205T060635Z
UID:10000524-1773482400-1773502200@thealliancetn.org
SUMMARY:Stand for Children TN Memphis Power Summit
DESCRIPTION:
URL:https://thealliancetn.org/event/stand-for-children-tn-memphis-power-summit/
END:VEVENT
BEGIN:VEVENT
DTSTART;TZID=America/Chicago:20260316T180000
DTEND;TZID=America/Chicago:20260316T193000
DTSTAMP:20260421T041320
CREATED:20260303T054212Z
LAST-MODIFIED:20260303T054212Z
UID:10000529-1773684000-1773689400@thealliancetn.org
SUMMARY:SOCM Public School Strong TN Orientation
DESCRIPTION:
URL:https://thealliancetn.org/event/socm-public-school-strong-tn-orientation/
END:VEVENT
BEGIN:VEVENT
DTSTART;TZID=America/Chicago:20260318T100000
DTEND;TZID=America/Chicago:20260318T140000
DTSTAMP:20260421T041320
CREATED:20260303T054327Z
LAST-MODIFIED:20260303T054327Z
UID:10000530-1773828000-1773842400@thealliancetn.org
SUMMARY:Urban League of Middle Tennessee: Community Job Fair
DESCRIPTION:
URL:https://thealliancetn.org/event/urban-league-of-middle-tennessee-community-job-fair/
END:VEVENT
BEGIN:VEVENT
DTSTART;TZID=America/Chicago:20260324T100000
DTEND;TZID=America/Chicago:20260324T130000
DTSTAMP:20260421T041320
CREATED:20260205T060757Z
LAST-MODIFIED:20260205T060757Z
UID:10000525-1774346400-1774357200@thealliancetn.org
SUMMARY:AWAKE Tennessee Day on the Hill
DESCRIPTION:
URL:https://thealliancetn.org/event/awake-tennessee-day-on-the-hill/
END:VEVENT
BEGIN:VEVENT
DTSTART;TZID=America/New_York:20260407T170000
DTEND;TZID=America/New_York:20260407T190000
DTSTAMP:20260421T041320
CREATED:20260405T045156Z
LAST-MODIFIED:20260405T045156Z
UID:10000531-1775581200-1775588400@thealliancetn.org
SUMMARY:HOLA Lakeway College Fair
DESCRIPTION:
URL:https://thealliancetn.org/event/hola-lakeway-college-fair-2/
END:VEVENT
END:VCALENDAR