BEGIN:VCALENDAR
VERSION:2.0
PRODID:-//Tennessee Alliance for Equity in Education - ECPv6.15.17//NONSGML v1.0//EN
CALSCALE:GREGORIAN
METHOD:PUBLISH
X-WR-CALNAME:Tennessee Alliance for Equity in Education
X-ORIGINAL-URL:https://thealliancetn.org
X-WR-CALDESC:Events for Tennessee Alliance for Equity in Education
REFRESH-INTERVAL;VALUE=DURATION:PT1H
X-Robots-Tag:noindex
X-PUBLISHED-TTL:PT1H
BEGIN:VTIMEZONE
TZID:America/Chicago
BEGIN:DAYLIGHT
TZOFFSETFROM:-0600
TZOFFSETTO:-0500
TZNAME:CDT
DTSTART:20200308T080000
END:DAYLIGHT
BEGIN:STANDARD
TZOFFSETFROM:-0500
TZOFFSETTO:-0600
TZNAME:CST
DTSTART:20201101T070000
END:STANDARD
BEGIN:DAYLIGHT
TZOFFSETFROM:-0600
TZOFFSETTO:-0500
TZNAME:CDT
DTSTART:20210314T080000
END:DAYLIGHT
BEGIN:STANDARD
TZOFFSETFROM:-0500
TZOFFSETTO:-0600
TZNAME:CST
DTSTART:20211107T070000
END:STANDARD
BEGIN:DAYLIGHT
TZOFFSETFROM:-0600
TZOFFSETTO:-0500
TZNAME:CDT
DTSTART:20220313T080000
END:DAYLIGHT
BEGIN:STANDARD
TZOFFSETFROM:-0500
TZOFFSETTO:-0600
TZNAME:CST
DTSTART:20221106T070000
END:STANDARD
END:VTIMEZONE
BEGIN:VTIMEZONE
TZID:America/Mexico_City
BEGIN:DAYLIGHT
TZOFFSETFROM:-0600
TZOFFSETTO:-0500
TZNAME:CDT
DTSTART:20200405T080000
END:DAYLIGHT
BEGIN:STANDARD
TZOFFSETFROM:-0500
TZOFFSETTO:-0600
TZNAME:CST
DTSTART:20201025T070000
END:STANDARD
BEGIN:DAYLIGHT
TZOFFSETFROM:-0600
TZOFFSETTO:-0500
TZNAME:CDT
DTSTART:20210404T080000
END:DAYLIGHT
BEGIN:STANDARD
TZOFFSETFROM:-0500
TZOFFSETTO:-0600
TZNAME:CST
DTSTART:20211031T070000
END:STANDARD
BEGIN:DAYLIGHT
TZOFFSETFROM:-0600
TZOFFSETTO:-0500
TZNAME:CDT
DTSTART:20220403T080000
END:DAYLIGHT
BEGIN:STANDARD
TZOFFSETFROM:-0500
TZOFFSETTO:-0600
TZNAME:CST
DTSTART:20221030T070000
END:STANDARD
END:VTIMEZONE
BEGIN:VEVENT
DTSTART;TZID=America/Chicago:20210329T150000
DTEND;TZID=America/Chicago:20210329T163000
DTSTAMP:20260422T110901
CREATED:20210217T221011Z
LAST-MODIFIED:20210218T031232Z
UID:10000236-1617030000-1617035400@thealliancetn.org
SUMMARY:Political Reality: What are the politics at play?
DESCRIPTION:Dollars and Sense is a 7-part learning series designed to help Tennesseans understand how schools are funded in Tennessee\, and what we can do to improve the adequacy and equity in our funding formula so that our schools and students have access to the resources that they need to succeed. We will feature expert speakers from Tennessee and across the country\, and assign optional readings for each session. \nSession 2 of 7 will provide attendees with an understanding of the national and state actors\, constituencies and policies at play in education finance. We’ll discuss the role of different sectors\, governmental agencies and litigation in the school funding landscape in Tennessee. \nRegister
URL:https://thealliancetn.org/event/political-reality-what-are-the-politics-at-play/
LOCATION:Zoom Virtual Meeting
ATTACH;FMTTYPE=image/jpeg:https://thealliancetn.org/wp-content/uploads/2021/02/021121-ETTN-Zoom-DollarsAndSense.jpg
END:VEVENT
BEGIN:VEVENT
DTSTART;TZID=America/Chicago:20210316T120000
DTEND;TZID=America/Chicago:20210316T130000
DTSTAMP:20260422T110901
CREATED:20210308T200902Z
LAST-MODIFIED:20210316T173044Z
UID:10000227-1615896000-1615899600@thealliancetn.org
SUMMARY:A Closer Look: Centering Equity in Tennessee's Learning Loss Legislation
DESCRIPTION:Join The Education Trust in Tennessee as we examine the Tennessee Learning Loss Remediation and Student Acceleration Act that passed in the TN General Assembly in January of 2021. We will discuss the implications and features of the new law\, including the retention of 3rd grade students\, and offer recommendations and questions for consideration. We will be joined by Dr. Lisa Coons\, Chief of Standards and Materials at the Tennessee Department of Education and Scott Meltzer\, Director of Engagement at the Tennessee Department of Education who will share plans for the implementation and monitoring of impact of the legislation. \nRegister
URL:https://thealliancetn.org/event/a-closer-look-centering-equity-in-tennessees-learning-loss-legislation/
LOCATION:Zoom Virtual Meeting
ATTACH;FMTTYPE=image/jpeg:https://thealliancetn.org/wp-content/uploads/2021/03/taee_general_events_header.jpg
END:VEVENT
BEGIN:VEVENT
DTSTART;TZID=America/Mexico_City:20210305T083000
DTEND;TZID=America/Mexico_City:20210305T084500
DTSTAMP:20260422T110901
CREATED:20210303T034421Z
LAST-MODIFIED:20210307T220236Z
UID:10000229-1614933000-1614933900@thealliancetn.org
SUMMARY:DLC Coffee Chat: Organizing and Analyzing Diverse Learner Data
DESCRIPTION:Join us for 15 minutes of topical learning while you drink your morning coffee; stick around with questions if you have them! \nAfter teaching a lesson and administering an assessment\, then what? How can you take the information you’ve gathered and analyze it effectively? Join us as we review methods for organizing data\, identifying trends\, and determining next steps so that you can use your data to improve your diverse learners’ outcomes. \nRegister
URL:https://thealliancetn.org/event/dlc-coffee-chat-organizing-and-analyzing-diverse-learner-data/
ATTACH;FMTTYPE=image/jpeg:https://thealliancetn.org/wp-content/uploads/2021/03/logoDLC_transparentBack-Brooke-Allen_events.jpg
END:VEVENT
BEGIN:VEVENT
DTSTART;TZID=America/Chicago:20210301T150000
DTEND;TZID=America/Chicago:20210301T163000
DTSTAMP:20260422T110901
CREATED:20210212T144651Z
LAST-MODIFIED:20210301T220010Z
UID:10000237-1614610800-1614616200@thealliancetn.org
SUMMARY:School Funding 101
DESCRIPTION:Dollars and Sense is a 7-part learning series designed to help Tennesseans understand how schools are funded in Tennessee\, and what we can do to improve the adequacy and equity in our funding formula so that our schools and students have access to the resources that they need to succeed. We will feature expert speakers from Tennessee and across the country\, and assign optional readings for each session. \nSession 1 of 7\, School Funding 101\, will provide attendees with an introduction to school funding structures\, including what goes in\, what comes out\, and why it matters. Additionally\, attendees will learn how state education funding formulas compare across the country\, and several ways to evaluate their adequacy and fairness. This session will lay a foundation for future Dollars and Sense sessions\, ensuring attendees can examine the many dimensions of school funding in Tennessee. \nRegister
URL:https://thealliancetn.org/event/school-funding-101/
ATTACH;FMTTYPE=image/jpeg:https://thealliancetn.org/wp-content/uploads/2021/02/021121-ETTN-Zoom-DollarsAndSense.jpg
END:VEVENT
END:VCALENDAR