BEGIN:VCALENDAR
VERSION:2.0
PRODID:-//Tennessee Alliance for Equity in Education - ECPv6.15.17//NONSGML v1.0//EN
CALSCALE:GREGORIAN
METHOD:PUBLISH
X-ORIGINAL-URL:https://thealliancetn.org
X-WR-CALDESC:Events for Tennessee Alliance for Equity in Education
REFRESH-INTERVAL;VALUE=DURATION:PT1H
X-Robots-Tag:noindex
X-PUBLISHED-TTL:PT1H
BEGIN:VTIMEZONE
TZID:America/Chicago
BEGIN:DAYLIGHT
TZOFFSETFROM:-0600
TZOFFSETTO:-0500
TZNAME:CDT
DTSTART:20200308T080000
END:DAYLIGHT
BEGIN:STANDARD
TZOFFSETFROM:-0500
TZOFFSETTO:-0600
TZNAME:CST
DTSTART:20201101T070000
END:STANDARD
BEGIN:DAYLIGHT
TZOFFSETFROM:-0600
TZOFFSETTO:-0500
TZNAME:CDT
DTSTART:20210314T080000
END:DAYLIGHT
BEGIN:STANDARD
TZOFFSETFROM:-0500
TZOFFSETTO:-0600
TZNAME:CST
DTSTART:20211107T070000
END:STANDARD
BEGIN:DAYLIGHT
TZOFFSETFROM:-0600
TZOFFSETTO:-0500
TZNAME:CDT
DTSTART:20220313T080000
END:DAYLIGHT
BEGIN:STANDARD
TZOFFSETFROM:-0500
TZOFFSETTO:-0600
TZNAME:CST
DTSTART:20221106T070000
END:STANDARD
END:VTIMEZONE
BEGIN:VEVENT
DTSTART;TZID=America/Chicago:20210519T150000
DTEND;TZID=America/Chicago:20210519T160000
DTSTAMP:20260422T070309
CREATED:20210513T165116Z
LAST-MODIFIED:20210513T195216Z
UID:10000216-1621436400-1621440000@thealliancetn.org
SUMMARY:Tennessee 2021 Legislative Wrap Up
DESCRIPTION:Join The Education Trust in Tennessee for a legislative wrap up webinar. We will provide advocates with the opportunity to discuss key education-related bills considered and passed during the 2021 session of the 112th General Assembly. We will offer opportunities to engage with a panel of legislative leaders from both sides of the aisle who are central to the policymaking process at the State Capitol. \nFeatured Panelists Include: \n\nSenator Raumesh Akbari – 2nd Vice Chair\, Senate Education Committee\nRepresentative Mark White – Chairman\, House Education Administration Committee\nRepresentative Vincent Dixie – Member\, House Education Instruction Committee\nRepresentative Eddie Mannis – Member\, House Education Instruction Committee\n\nRegister
URL:https://thealliancetn.org/event/tennessee-2021-legislative-wrap-up-2/
LOCATION:Zoom Virtual Meeting
ATTACH;FMTTYPE=image/jpeg:https://thealliancetn.org/wp-content/uploads/2021/05/TAEE-event-edtrust.jpg
END:VEVENT
END:VCALENDAR